BEGIN:VCALENDAR
VERSION:2.0
PRODID:-//NALA Naturschule - ECPv6.15.20//NONSGML v1.0//EN
CALSCALE:GREGORIAN
METHOD:PUBLISH
X-WR-CALNAME:NALA Naturschule
X-ORIGINAL-URL:https://nala-naturschule.de
X-WR-CALDESC:Veranstaltungen für NALA Naturschule
REFRESH-INTERVAL;VALUE=DURATION:PT1H
X-Robots-Tag:noindex
X-PUBLISHED-TTL:PT1H
BEGIN:VTIMEZONE
TZID:Europe/Berlin
BEGIN:DAYLIGHT
TZOFFSETFROM:+0100
TZOFFSETTO:+0200
TZNAME:CEST
DTSTART:20240331T010000
END:DAYLIGHT
BEGIN:STANDARD
TZOFFSETFROM:+0200
TZOFFSETTO:+0100
TZNAME:CET
DTSTART:20241027T010000
END:STANDARD
BEGIN:DAYLIGHT
TZOFFSETFROM:+0100
TZOFFSETTO:+0200
TZNAME:CEST
DTSTART:20250330T010000
END:DAYLIGHT
BEGIN:STANDARD
TZOFFSETFROM:+0200
TZOFFSETTO:+0100
TZNAME:CET
DTSTART:20251026T010000
END:STANDARD
BEGIN:DAYLIGHT
TZOFFSETFROM:+0100
TZOFFSETTO:+0200
TZNAME:CEST
DTSTART:20260329T010000
END:DAYLIGHT
BEGIN:STANDARD
TZOFFSETFROM:+0200
TZOFFSETTO:+0100
TZNAME:CET
DTSTART:20261025T010000
END:STANDARD
END:VTIMEZONE
BEGIN:VEVENT
DTSTART;TZID=Europe/Berlin:20251019T143000
DTEND;TZID=Europe/Berlin:20251019T183000
DTSTAMP:20260422T062259
CREATED:20250922T204600Z
LAST-MODIFIED:20260225T210451Z
UID:3474-1760884200-1760898600@nala-naturschule.de
SUMMARY:NALA Familienausflug Oktober
DESCRIPTION:Liebe NALA Familien und Freunde\, \n\n\n\nÄpfel\, Birnen\, Trauben\, Nüsse\, Sonne\, Wind und Regengüsse … \n\n\n\nWir laden alle Familien und Menschen\, die sich für unsere Naturschule in Gründung interessieren\, zu einem gemeinsamen herbstlichen Ausflug ein. Gerade gibt es überall Äpfel in Fülle und wir haben diesmal die Möglichkeit\, mit einer Saftpresse selbst Apfelsaft zu pressen. \n\n\n\nTreffpunkt ist am Sonntag\, den 19. Oktober um 14:30 Uhr\, am Spielplatz am Rebbergweg in Nußbach. Von dort geht es ca. eine halbe Stunde über Felder und durch den Wald bis zur Apfelsaftpresse.  \n\n\n\nBringt bitte eine Flasche für den Apfelsaft und ein kleines Vesper mit. \n\n\n\nBei Regen können wir uns in der Jurte der Familie Just aufhalten und ein gemütliches Feuer machen. Natürlich ist auch wieder Zeit für Spiele\, Geschichten und Austausch über die Entwicklung der Naturschule. \n\n\n\n\n\n\n\nℹ️ Infos: \n\n\n\n\nSonntag\, 19. Oktober um 14:30 Uhr\n\n\n\nOhne Anmeldung\n\n\n\n📍 Treffpunkt: Spielplatz am Rebbergweg in Nußbach (→ klick für den Google-Link)\n\n\n\n🎒 Mitbringen: Flasche für den Apfelsaft & kleines Vesper
URL:https://nala-naturschule.de/veranstaltung/familienausflug-oktober/
CATEGORIES:Familienausflüge
END:VEVENT
END:VCALENDAR