BEGIN:VCALENDAR
VERSION:2.0
PRODID:-//NALA Naturschule - ECPv6.15.20//NONSGML v1.0//EN
CALSCALE:GREGORIAN
METHOD:PUBLISH
X-WR-CALNAME:NALA Naturschule
X-ORIGINAL-URL:https://nala-naturschule.de
X-WR-CALDESC:Veranstaltungen für NALA Naturschule
REFRESH-INTERVAL;VALUE=DURATION:PT1H
X-Robots-Tag:noindex
X-PUBLISHED-TTL:PT1H
BEGIN:VTIMEZONE
TZID:Europe/Berlin
BEGIN:DAYLIGHT
TZOFFSETFROM:+0100
TZOFFSETTO:+0200
TZNAME:CEST
DTSTART:20240331T010000
END:DAYLIGHT
BEGIN:STANDARD
TZOFFSETFROM:+0200
TZOFFSETTO:+0100
TZNAME:CET
DTSTART:20241027T010000
END:STANDARD
BEGIN:DAYLIGHT
TZOFFSETFROM:+0100
TZOFFSETTO:+0200
TZNAME:CEST
DTSTART:20250330T010000
END:DAYLIGHT
BEGIN:STANDARD
TZOFFSETFROM:+0200
TZOFFSETTO:+0100
TZNAME:CET
DTSTART:20251026T010000
END:STANDARD
BEGIN:DAYLIGHT
TZOFFSETFROM:+0100
TZOFFSETTO:+0200
TZNAME:CEST
DTSTART:20260329T010000
END:DAYLIGHT
BEGIN:STANDARD
TZOFFSETFROM:+0200
TZOFFSETTO:+0100
TZNAME:CET
DTSTART:20261025T010000
END:STANDARD
END:VTIMEZONE
BEGIN:VEVENT
DTSTART;TZID=Europe/Berlin:20251115T100000
DTEND;TZID=Europe/Berlin:20251115T170000
DTSTAMP:20260422T043408
CREATED:20250922T203303Z
LAST-MODIFIED:20251119T141951Z
UID:3462-1763200800-1763226000@nala-naturschule.de
SUMMARY:Geschichten & Infos in Mösbach auf dem Schindlerhof
DESCRIPTION:Am 15. November findet in Mösbach auf dem Schindlerhof ein Hoffest statt.Wir erzählen Märchen und informieren natürlich auch über die NALA Naturschule.
URL:https://nala-naturschule.de/veranstaltung/geschichten-kraeutersalz-moersern-in-moesbach-auf-dem-schindlerhof-2/
CATEGORIES:Infostand
END:VEVENT
BEGIN:VEVENT
DTSTART;TZID=Europe/Berlin:20251115T110000
DTEND;TZID=Europe/Berlin:20251115T200000
DTSTAMP:20260422T043408
CREATED:20250922T203808Z
LAST-MODIFIED:20251119T141951Z
UID:3466-1763204400-1763236800@nala-naturschule.de
SUMMARY:Stockbrot & Geschichten auf dem Wintermarkt in Erlach
DESCRIPTION:Wir sind mit NALA dabei!
URL:https://nala-naturschule.de/veranstaltung/stockbrot-geschichten-auf-dem-wintermarkt-in-erlach/
CATEGORIES:Infostand
END:VEVENT
END:VCALENDAR