BEGIN:VCALENDAR
VERSION:2.0
PRODID:-//NALA Naturschule - ECPv6.15.20//NONSGML v1.0//EN
CALSCALE:GREGORIAN
METHOD:PUBLISH
X-WR-CALNAME:NALA Naturschule
X-ORIGINAL-URL:https://nala-naturschule.de
X-WR-CALDESC:Veranstaltungen für NALA Naturschule
REFRESH-INTERVAL;VALUE=DURATION:PT1H
X-Robots-Tag:noindex
X-PUBLISHED-TTL:PT1H
BEGIN:VTIMEZONE
TZID:Europe/Berlin
BEGIN:DAYLIGHT
TZOFFSETFROM:+0100
TZOFFSETTO:+0200
TZNAME:CEST
DTSTART:20240331T010000
END:DAYLIGHT
BEGIN:STANDARD
TZOFFSETFROM:+0200
TZOFFSETTO:+0100
TZNAME:CET
DTSTART:20241027T010000
END:STANDARD
BEGIN:DAYLIGHT
TZOFFSETFROM:+0100
TZOFFSETTO:+0200
TZNAME:CEST
DTSTART:20250330T010000
END:DAYLIGHT
BEGIN:STANDARD
TZOFFSETFROM:+0200
TZOFFSETTO:+0100
TZNAME:CET
DTSTART:20251026T010000
END:STANDARD
BEGIN:DAYLIGHT
TZOFFSETFROM:+0100
TZOFFSETTO:+0200
TZNAME:CEST
DTSTART:20260329T010000
END:DAYLIGHT
BEGIN:STANDARD
TZOFFSETFROM:+0200
TZOFFSETTO:+0100
TZNAME:CET
DTSTART:20261025T010000
END:STANDARD
END:VTIMEZONE
BEGIN:VEVENT
DTSTART;TZID=Europe/Berlin:20251207T110000
DTEND;TZID=Europe/Berlin:20251207T180000
DTSTAMP:20260422T023229
CREATED:20251110T105032Z
LAST-MODIFIED:20251119T145638Z
UID:3744-1765105200-1765130400@nala-naturschule.de
SUMMARY:Weihnachtsdeko aus der Natur mit NALA auf dem Sesterhoffest
DESCRIPTION:NALA ist mit dabei auf dem traditionellen Sesterhoffest in Ödsbach! \n\n\n\nDer Sesterhof freut sich über Besucher und Kuchenspenden: info@sesterhof-oedsbach.de \n\n\n\n…und wir freuen uns auf euch und helfende Bastelhände: hallo@nala-naturschule.de.  \n\n\n\nKommt vorbei! Winterzeit auf dem Sesterhof
URL:https://nala-naturschule.de/veranstaltung/weihnachtsdeko-aus-der-natur-mit-nala-auf-dem-sesterhoffest/
CATEGORIES:Infostand
END:VEVENT
END:VCALENDAR