BEGIN:VCALENDAR
VERSION:2.0
PRODID:-//NALA Naturschule - ECPv6.15.20//NONSGML v1.0//EN
CALSCALE:GREGORIAN
METHOD:PUBLISH
X-WR-CALNAME:NALA Naturschule
X-ORIGINAL-URL:https://nala-naturschule.de
X-WR-CALDESC:Veranstaltungen für NALA Naturschule
REFRESH-INTERVAL;VALUE=DURATION:PT1H
X-Robots-Tag:noindex
X-PUBLISHED-TTL:PT1H
BEGIN:VTIMEZONE
TZID:Europe/Berlin
BEGIN:DAYLIGHT
TZOFFSETFROM:+0100
TZOFFSETTO:+0200
TZNAME:CEST
DTSTART:20250330T010000
END:DAYLIGHT
BEGIN:STANDARD
TZOFFSETFROM:+0200
TZOFFSETTO:+0100
TZNAME:CET
DTSTART:20251026T010000
END:STANDARD
BEGIN:DAYLIGHT
TZOFFSETFROM:+0100
TZOFFSETTO:+0200
TZNAME:CEST
DTSTART:20260329T010000
END:DAYLIGHT
BEGIN:STANDARD
TZOFFSETFROM:+0200
TZOFFSETTO:+0100
TZNAME:CET
DTSTART:20261025T010000
END:STANDARD
BEGIN:DAYLIGHT
TZOFFSETFROM:+0100
TZOFFSETTO:+0200
TZNAME:CEST
DTSTART:20270328T010000
END:DAYLIGHT
BEGIN:STANDARD
TZOFFSETFROM:+0200
TZOFFSETTO:+0100
TZNAME:CET
DTSTART:20271031T010000
END:STANDARD
END:VTIMEZONE
BEGIN:VEVENT
DTSTART;TZID=Europe/Berlin:20260304T163000
DTEND;TZID=Europe/Berlin:20260304T173000
DTSTAMP:20260421T192817
CREATED:20260123T101023Z
LAST-MODIFIED:20260309T193738Z
UID:3799-1772641800-1772645400@nala-naturschule.de
SUMMARY:Märchen und allerlei schöne Geschichten im Kräutergarten in Renchen-Ulm
DESCRIPTION:…über wahre Freundschaft\, Mut\, Vertrauen\, Abenteuer\, ferne Länder\, wundersame Begegnungen\, Elfen\, Zwerge und Zauberkräfte\, über sprechende Tiere und heilsame Pflanzenseelen… \n\n\n\nLausche….und tauche ein in eine Welt voller Fantasie\, Wunder und Zauber.  \n\n\n\n\n\n\n\nVorlesevergnügen für Kinder und Erwachsene mit Heike Gutenkunst \n\n\n\n\n\n\n\n📍 bei schönem Wetter draußen unterm Pavillon\, sonst in der Pfarrmättle-Hütte im Kräutergarten in Renchen-Ulm (gegenüber der Kirche) \n\n\n\n📆 Termine: \n\n\n\n\nMittwoch\, 04.03.2026\n\n\n\nMittwoch\, 15.04.2026   jeweils von 16:30 – 17:30 Uhr\n\n\n\n(geplant sind weitere Termine 1 x im Monat)\n\n\n\n\n\n\n\n\n🎒 Bitte mitbringen: eine Sitzunterlage \n\n\n\n❤️ Auf Spendenbasis … der Erlös geht an das Herzensprojekt NALA Naturschule. \n\n\n\nAnmelden: 07843 84476 oder heike.gutenkunst@gmx.de
URL:https://nala-naturschule.de/veranstaltung/maerchen-und-allerlei-schoene-geschichten-im-kraeutergarten-in-renchen-ulm/
CATEGORIES:Märchen
END:VEVENT
END:VCALENDAR