BEGIN:VCALENDAR
VERSION:2.0
PRODID:-//NALA Naturschule - ECPv6.15.20//NONSGML v1.0//EN
CALSCALE:GREGORIAN
METHOD:PUBLISH
X-ORIGINAL-URL:https://nala-naturschule.de
X-WR-CALDESC:Veranstaltungen für NALA Naturschule
REFRESH-INTERVAL;VALUE=DURATION:PT1H
X-Robots-Tag:noindex
X-PUBLISHED-TTL:PT1H
BEGIN:VTIMEZONE
TZID:Europe/Berlin
BEGIN:DAYLIGHT
TZOFFSETFROM:+0100
TZOFFSETTO:+0200
TZNAME:CEST
DTSTART:20240331T010000
END:DAYLIGHT
BEGIN:STANDARD
TZOFFSETFROM:+0200
TZOFFSETTO:+0100
TZNAME:CET
DTSTART:20241027T010000
END:STANDARD
BEGIN:DAYLIGHT
TZOFFSETFROM:+0100
TZOFFSETTO:+0200
TZNAME:CEST
DTSTART:20250330T010000
END:DAYLIGHT
BEGIN:STANDARD
TZOFFSETFROM:+0200
TZOFFSETTO:+0100
TZNAME:CET
DTSTART:20251026T010000
END:STANDARD
BEGIN:DAYLIGHT
TZOFFSETFROM:+0100
TZOFFSETTO:+0200
TZNAME:CEST
DTSTART:20260329T010000
END:DAYLIGHT
BEGIN:STANDARD
TZOFFSETFROM:+0200
TZOFFSETTO:+0100
TZNAME:CET
DTSTART:20261025T010000
END:STANDARD
END:VTIMEZONE
BEGIN:VEVENT
DTSTART;TZID=Europe/Berlin:20250731T100000
DTEND;TZID=Europe/Berlin:20250801T170000
DTSTAMP:20260422T075321
CREATED:20250225T202418Z
LAST-MODIFIED:20251119T141952Z
UID:3229-1753956000-1754067600@nala-naturschule.de
SUMMARY:Feriencamp Juli 2025 ☀️
DESCRIPTION:Zwei Ferientage mit NALA und Übernachten in der Natur in Ödsbach\, Laibach-Bergle \n\n\n\n Infos: \n\n\n\n\nFür Kinder von 5-11 Jahren\n\n\n\nAusgleich: 90 € (inkl. Essen und Material) plus 20 € Übernachtung\n\n\n\nJe 5 € Rabatt für NALA- und Geschwisterkinder\n\n\n\n\n \n\n\n\n \n\n\n\nInteresse? Einfach E-Mail schreiben an hallo@nala-naturschule.de \n\n\n\nFlyer herunterladen
URL:https://nala-naturschule.de/veranstaltung/naturtage-juli-2025-%e2%98%80%ef%b8%8f/
CATEGORIES:Naturtage
END:VEVENT
BEGIN:VEVENT
DTSTART;TZID=Europe/Berlin:20250803T093000
DTEND;TZID=Europe/Berlin:20250803T133000
DTSTAMP:20260422T075321
CREATED:20250310T203920Z
LAST-MODIFIED:20251119T141952Z
UID:3261-1754213400-1754227800@nala-naturschule.de
SUMMARY:NALA & Fischmobil
DESCRIPTION:„Leben im Wasser“- das Fischmobil kommt an die Rench. Entdecke mit NALA\, welche Fische und Tiere im oder am Fluss leben. Zur Forschungsausrüstung gehören zum Beispiel Petrischalen\, Pipetten\, Mikroskope\, Ferngläser und Kescher. \n\n\n\nInfos: \n\n\n\n\nTreffpunkt 9:30 in Renchen-Erlach am Friedhof\n\n\n\nAbholung mit Picknick 13 – 14 Uhr an der Rench zwischen Erlach und Stadelhofen\n\n\n\nFür Kinder von ca. 8-14 Jahren\n\n\n\nAusgleich: 20 €\n\n\n\nJe 5 € Rabatt für NALA- und Geschwisterkinder\n\n\n\nMitbringen: wasserfeste Kleidung\, Badesachen\, zusätzlich Gummistiefel oder Wasserschuhe\, Ersatzkleider\, Handtuch\, Vesper und Getränk / fürs Picknick: gerne Picknick-Decke und was zum Essen & Trinken\n\n\n\n\n \n\n\n\nInteresse? Einfach E-Mail schreiben an hallo@nala-naturschule.de \n\n\n\nPS: Am Nachmittag Fischmobil für Familien – somit gut geeignet für jüngere Kinder. \n\n\n\nWeitere Infos hier klicken. \n\n\n\n \n\n\n\nFlyer herunterladen
URL:https://nala-naturschule.de/veranstaltung/nala-fischmobil/
END:VEVENT
BEGIN:VEVENT
DTSTART;TZID=Europe/Berlin:20250803T130000
DTEND;TZID=Europe/Berlin:20250803T170000
DTSTAMP:20260422T075321
CREATED:20250715T162515Z
LAST-MODIFIED:20251119T141952Z
UID:3404-1754226000-1754240400@nala-naturschule.de
SUMMARY:Fischmobil für Familien
DESCRIPTION:Das Fischmobil forscht ab 14 Uhr mit Eltern und Kindern zusammen und ist gut geeignet für Jüngere. Mit Biologe und Forschungslabor entdeckt ihr die Rench. Packt wasserfeste Kleidung ein\, Badesachen\, Wasserschuhe\, Ersatzkleider\, Handtuch\, Getränke und was fürs gemeinsame Picknick. \n\n\n\nVormittags ist bereits eine Kindergruppe von 9:30 – 13:30 an der Rench. Ab 13:00 wollen wir gemeinsam picknicken.  \n\n\n\nInfos: \n\n\n\n\nTreffpunkt an der Rench zwischen Stadelhofen und Erlach\n\n\n\nFür Familien\n\n\n\nAusgleich: auf Spendenbasis\n\n\n\nParken könnt ihr gut am Friedhof in Erlach oder bei der Kirche in Stadelhofen\n\n\n\nMitbringen: Kleidung wie oben beschrieben und was fürs gemeinsame Picknick\n\n\n\n\n \n\n\n\nInteresse? Einfach E-Mail schreiben an hallo@nala-naturschule.de \n\n\n\nWeitere Infos hier klicken. \n\n\n\n \n\n\n\nFlyer herunterladen
URL:https://nala-naturschule.de/veranstaltung/fischmobil-fuer-familien/
END:VEVENT
BEGIN:VEVENT
DTSTART;TZID=Europe/Berlin:20250808T000000
DTEND;TZID=Europe/Berlin:20250810T235959
DTSTAMP:20260422T075321
CREATED:20250225T202458Z
LAST-MODIFIED:20251119T141951Z
UID:3231-1754611200-1754870399@nala-naturschule.de
SUMMARY:Naturtage August 2025 🌻
DESCRIPTION:Ausgebucht. Nur noch Warteliste. Heya heya nana heya heya … Habt ihr schon gehört? Im Wald rauscht der Wind in den Bäumen\, die Lieder der Vögel singen voll Freude\, die Regenwürmer flüstern unter der Erde\, die Eule ruft in der Nacht. Alle Waldbewohner wissen es schon und freuen sich. Kinder kommen wieder in den Wald. Ihr könnt drei wundervolle Tage mit der Waldfamilie erleben und viele Geheimnisse entdecken. \n\n\n\n Infos: \n\n\n\n\njeweils von 10 bis 17 Uhr\n\n\n\nFür Kinder von 5-11 Jahren\n\n\n\nAusgleich: 125 € (inkl. Essen und Material) \n\n\n\nJe 10 € Rabatt für NALA- und Geschwisterkinder\n\n\n\n\n \n\n\n\nWie verwandeln sich zum Beispiel graue\, runde Flusskiesel mit bunter Wolle in farbige Edelsteine? Außerdem wollen wir wieder viel klettern\, spielen\, am Feuer kochen und den Geschichten lauschen. Birke\, Tanne\, Moos und Stein\, es ist so schön im Wald zu sein. \n\n\n\nInteresse? Einfach E-Mail schreiben an hallo@nala-naturschule. Achtung: nur noch über Warteliste.
URL:https://nala-naturschule.de/veranstaltung/naturtage-august-2025-%f0%9f%8c%bb/
CATEGORIES:Naturtage
END:VEVENT
END:VCALENDAR