BEGIN:VCALENDAR
VERSION:2.0
PRODID:-//NALA Naturschule - ECPv6.15.20//NONSGML v1.0//EN
CALSCALE:GREGORIAN
METHOD:PUBLISH
X-WR-CALNAME:NALA Naturschule
X-ORIGINAL-URL:https://nala-naturschule.de
X-WR-CALDESC:Veranstaltungen für NALA Naturschule
REFRESH-INTERVAL;VALUE=DURATION:PT1H
X-Robots-Tag:noindex
X-PUBLISHED-TTL:PT1H
BEGIN:VTIMEZONE
TZID:Europe/Berlin
BEGIN:DAYLIGHT
TZOFFSETFROM:+0100
TZOFFSETTO:+0200
TZNAME:CEST
DTSTART:20240331T010000
END:DAYLIGHT
BEGIN:STANDARD
TZOFFSETFROM:+0200
TZOFFSETTO:+0100
TZNAME:CET
DTSTART:20241027T010000
END:STANDARD
BEGIN:DAYLIGHT
TZOFFSETFROM:+0100
TZOFFSETTO:+0200
TZNAME:CEST
DTSTART:20250330T010000
END:DAYLIGHT
BEGIN:STANDARD
TZOFFSETFROM:+0200
TZOFFSETTO:+0100
TZNAME:CET
DTSTART:20251026T010000
END:STANDARD
BEGIN:DAYLIGHT
TZOFFSETFROM:+0100
TZOFFSETTO:+0200
TZNAME:CEST
DTSTART:20260329T010000
END:DAYLIGHT
BEGIN:STANDARD
TZOFFSETFROM:+0200
TZOFFSETTO:+0100
TZNAME:CET
DTSTART:20261025T010000
END:STANDARD
END:VTIMEZONE
BEGIN:VEVENT
DTSTART;TZID=Europe/Berlin:20251004T100000
DTEND;TZID=Europe/Berlin:20251004T170000
DTSTAMP:20260422T043408
CREATED:20250922T204731Z
LAST-MODIFIED:20251119T141951Z
UID:3476-1759572000-1759597200@nala-naturschule.de
SUMMARY:NALA Oktober-Waldtag
DESCRIPTION:NALA Herbsttag im Wald für Kinder in Ulm mit Heike und Yvonne. \n\n\n\n\n\n\n\n„Ritzen\, schnitzen\, auf der Wurzel sitzen…“ 🪵 \n\n\n\n\n\n\n\nLiebe Kinder\, \n\n\n\nNüsse\, Kastanien\, Eicheln fallen von den Bäumen\, die Tiere sammeln Vorräte und bereiten sich auf den Winter vor und das Laub färbt sich schon herbstlich in allen Farben. 🍂 Die wunderschöne goldene Herbstzeit hat begonnen und ihr könnt wieder mit uns den Wald entdecken\, klettern\, spielen\, schnitzen\, Geschichten lauschen und über dem Feuer etwas Leckeres kochen. Aus den Waldfrüchten und Stöcken könnt ihr einen Glücksanhänger\, das Auge der Göttin\, flechten. \n\n\n\nWir freuen uns auf den Waldtag mit euch\, \n\n\n\nHeike und Yvonne \n\n\n\n\n\n\n\n\n📆 Termin: 04. Oktober 10.00 Uhr – 14.00 Uhr\n\n\n\n📍 Treffpunkt: Renchen Ulm/ Waldspielplatz Kaierstr. 54\n\n\n\n🎒 Mitbringen: kleines Vesper\, wetterfeste Kleidung\, Schnitzmesser\, Schüssel\, Besteck\, Geschirrtuch.\n\n\n\nFür Kinder von 5-11 Jahren\n\n\n\nAusgleich: 45 Euro (je 5 Euro Rabatt für NALA- und Geschwisterkinder)\n\n\n\n\n \n\n\n\nAnmeldung bitte per Mail an: hallo@nala-naturschule.de
URL:https://nala-naturschule.de/veranstaltung/nala-oktober-waldtag/
CATEGORIES:Waldtage
END:VEVENT
BEGIN:VEVENT
DTSTART;TZID=Europe/Berlin:20251019T143000
DTEND;TZID=Europe/Berlin:20251019T183000
DTSTAMP:20260422T043408
CREATED:20250922T204600Z
LAST-MODIFIED:20260225T210451Z
UID:3474-1760884200-1760898600@nala-naturschule.de
SUMMARY:NALA Familienausflug Oktober
DESCRIPTION:Liebe NALA Familien und Freunde\, \n\n\n\nÄpfel\, Birnen\, Trauben\, Nüsse\, Sonne\, Wind und Regengüsse … \n\n\n\nWir laden alle Familien und Menschen\, die sich für unsere Naturschule in Gründung interessieren\, zu einem gemeinsamen herbstlichen Ausflug ein. Gerade gibt es überall Äpfel in Fülle und wir haben diesmal die Möglichkeit\, mit einer Saftpresse selbst Apfelsaft zu pressen. \n\n\n\nTreffpunkt ist am Sonntag\, den 19. Oktober um 14:30 Uhr\, am Spielplatz am Rebbergweg in Nußbach. Von dort geht es ca. eine halbe Stunde über Felder und durch den Wald bis zur Apfelsaftpresse.  \n\n\n\nBringt bitte eine Flasche für den Apfelsaft und ein kleines Vesper mit. \n\n\n\nBei Regen können wir uns in der Jurte der Familie Just aufhalten und ein gemütliches Feuer machen. Natürlich ist auch wieder Zeit für Spiele\, Geschichten und Austausch über die Entwicklung der Naturschule. \n\n\n\n\n\n\n\nℹ️ Infos: \n\n\n\n\nSonntag\, 19. Oktober um 14:30 Uhr\n\n\n\nOhne Anmeldung\n\n\n\n📍 Treffpunkt: Spielplatz am Rebbergweg in Nußbach (→ klick für den Google-Link)\n\n\n\n🎒 Mitbringen: Flasche für den Apfelsaft & kleines Vesper
URL:https://nala-naturschule.de/veranstaltung/familienausflug-oktober/
CATEGORIES:Familienausflüge
END:VEVENT
BEGIN:VEVENT
DTSTART;TZID=Europe/Berlin:20251027T000000
DTEND;TZID=Europe/Berlin:20251029T235959
DTSTAMP:20260422T043408
CREATED:20250922T204439Z
LAST-MODIFIED:20251119T141951Z
UID:3472-1761523200-1761782399@nala-naturschule.de
SUMMARY:NALA Naturtage Herbst 2025 🍁
DESCRIPTION:ℹ️ Anmeldung nur noch auf die Warteliste! ℹ️ \n\n\n\nEs gibt wieder NALA Naturtage!  \n\n\n\n\n\n\n\n„Schau nur\, dieser Felsen sieht aus wie ein Bär!“\, ruft Anuk. „Ja\, und der hier könnte ein verzaubertes Einhorn sein!“ Sehr geheimnisvoll sieht der Wald ohne sein dichtes Blätterkleid aus. \n\n\n\nDas warmgoldene Licht der Sonnenstrahlen zwischen leichten Nebelschleiern verwandelt Baumstämme\, Wurzeln und Felsen\, sodass Kenai und Anuk in ihnen Tiere\, Feen und Zwerge erkennen können. \n\n\n\n\n\n\n\nLiebe Kinder\, \n\n\n\nhabt ihr Lust\, drei Tage mit uns durch den herbstlichen Zauberwald zu streifen? \n\n\n\nVielleicht entdeckt ihr\, wie Anuk und Kenai\, wundervolle Orte\, an denen euch Felsen\, Wurzeln und Bäume ihre Geschichten erzählen? \n\n\n\nAus Specksteinen wollen wir mit Messer und Feile selbst Tiere\, Gesichter\, Naturwesen oder auch einfach Schmuckanhänger herstellen. \n\n\n\nDie Kraft der Pflanzen hat sich jetzt in ihre Wurzeln zurückgezogen und ist daher besonders kraftvoll. Ihr könnt mit uns nach heilkräftigen Wurzeln suchen. \n\n\n\nWir rühren dann aus ihnen in der Waldküche mit Bienenwachs\, Kokosfett und Harz über dem Feuer eine Winter-Schutz-Salbe. \n\n\n\nNatürlich gibt es auch wieder Spiele\, Klettern\, Geschichten und leckeres Essen\, über dem Feuer gekocht. \n\n\n\nWir freuen uns auf die Waldtage mit euch\, \n\n\n\nHerzliche Grüße \n\n\n\nHeike und Yvonne \n\n\n\n \n\n\n\n\n\n\n\nℹ️ Infos: \n\n\n\n\nJeweils von 10.00 – 17.00 Uhr\n\n\n\nTreffpunkt in Renchen-Ulm Waldspielplatz Kaierstraße (NEU)\n\n\n\nFür Kinder von 5 bis 11 Jahren\n\n\n\nAusgleich: 125 € (inkl. Essen & Material)\n\n\n\nJe 10 € Rabatt für NALA- und Geschwisterkinder\n\n\n\nAnmeldungen gerne an: hallo@nala-naturschule.de
URL:https://nala-naturschule.de/veranstaltung/nala-naturtage-herbst-2025/
CATEGORIES:Naturtage
END:VEVENT
END:VCALENDAR