BEGIN:VCALENDAR
VERSION:2.0
PRODID:-//NALA Naturschule - ECPv6.15.20//NONSGML v1.0//EN
CALSCALE:GREGORIAN
METHOD:PUBLISH
X-ORIGINAL-URL:https://nala-naturschule.de
X-WR-CALDESC:Veranstaltungen für NALA Naturschule
REFRESH-INTERVAL;VALUE=DURATION:PT1H
X-Robots-Tag:noindex
X-PUBLISHED-TTL:PT1H
BEGIN:VTIMEZONE
TZID:Europe/Berlin
BEGIN:DAYLIGHT
TZOFFSETFROM:+0100
TZOFFSETTO:+0200
TZNAME:CEST
DTSTART:20250330T010000
END:DAYLIGHT
BEGIN:STANDARD
TZOFFSETFROM:+0200
TZOFFSETTO:+0100
TZNAME:CET
DTSTART:20251026T010000
END:STANDARD
BEGIN:DAYLIGHT
TZOFFSETFROM:+0100
TZOFFSETTO:+0200
TZNAME:CEST
DTSTART:20260329T010000
END:DAYLIGHT
BEGIN:STANDARD
TZOFFSETFROM:+0200
TZOFFSETTO:+0100
TZNAME:CET
DTSTART:20261025T010000
END:STANDARD
BEGIN:DAYLIGHT
TZOFFSETFROM:+0100
TZOFFSETTO:+0200
TZNAME:CEST
DTSTART:20270328T010000
END:DAYLIGHT
BEGIN:STANDARD
TZOFFSETFROM:+0200
TZOFFSETTO:+0100
TZNAME:CET
DTSTART:20271031T010000
END:STANDARD
END:VTIMEZONE
BEGIN:VEVENT
DTSTART;TZID=Europe/Berlin:20260201T000000
DTEND;TZID=Europe/Berlin:20260201T235959
DTSTAMP:20260421T192939
CREATED:20260113T094749Z
LAST-MODIFIED:20260130T132850Z
UID:3783-1769904000-1769990399@nala-naturschule.de
SUMMARY:NALA Familienausflug - fällt leider aus!
DESCRIPTION:Der Familienausflug im Februar fällt leider aus!
URL:https://nala-naturschule.de/veranstaltung/nala-familienausflug/
CATEGORIES:Familienausflüge
END:VEVENT
END:VCALENDAR