BEGIN:VCALENDAR
VERSION:2.0
PRODID:-//NALA Naturschule - ECPv6.15.20//NONSGML v1.0//EN
CALSCALE:GREGORIAN
METHOD:PUBLISH
X-WR-CALNAME:NALA Naturschule
X-ORIGINAL-URL:https://nala-naturschule.de
X-WR-CALDESC:Veranstaltungen für NALA Naturschule
REFRESH-INTERVAL;VALUE=DURATION:PT1H
X-Robots-Tag:noindex
X-PUBLISHED-TTL:PT1H
BEGIN:VTIMEZONE
TZID:Europe/Berlin
BEGIN:DAYLIGHT
TZOFFSETFROM:+0100
TZOFFSETTO:+0200
TZNAME:CEST
DTSTART:20250330T010000
END:DAYLIGHT
BEGIN:STANDARD
TZOFFSETFROM:+0200
TZOFFSETTO:+0100
TZNAME:CET
DTSTART:20251026T010000
END:STANDARD
BEGIN:DAYLIGHT
TZOFFSETFROM:+0100
TZOFFSETTO:+0200
TZNAME:CEST
DTSTART:20260329T010000
END:DAYLIGHT
BEGIN:STANDARD
TZOFFSETFROM:+0200
TZOFFSETTO:+0100
TZNAME:CET
DTSTART:20261025T010000
END:STANDARD
BEGIN:DAYLIGHT
TZOFFSETFROM:+0100
TZOFFSETTO:+0200
TZNAME:CEST
DTSTART:20270328T010000
END:DAYLIGHT
BEGIN:STANDARD
TZOFFSETFROM:+0200
TZOFFSETTO:+0100
TZNAME:CET
DTSTART:20271031T010000
END:STANDARD
END:VTIMEZONE
BEGIN:VEVENT
DTSTART;TZID=Europe/Berlin:20260304T163000
DTEND;TZID=Europe/Berlin:20260304T173000
DTSTAMP:20260421T174823
CREATED:20260123T101023Z
LAST-MODIFIED:20260309T193738Z
UID:3799-1772641800-1772645400@nala-naturschule.de
SUMMARY:Märchen und allerlei schöne Geschichten im Kräutergarten in Renchen-Ulm
DESCRIPTION:…über wahre Freundschaft\, Mut\, Vertrauen\, Abenteuer\, ferne Länder\, wundersame Begegnungen\, Elfen\, Zwerge und Zauberkräfte\, über sprechende Tiere und heilsame Pflanzenseelen… \n\n\n\nLausche….und tauche ein in eine Welt voller Fantasie\, Wunder und Zauber.  \n\n\n\n\n\n\n\nVorlesevergnügen für Kinder und Erwachsene mit Heike Gutenkunst \n\n\n\n\n\n\n\n📍 bei schönem Wetter draußen unterm Pavillon\, sonst in der Pfarrmättle-Hütte im Kräutergarten in Renchen-Ulm (gegenüber der Kirche) \n\n\n\n📆 Termine: \n\n\n\n\nMittwoch\, 04.03.2026\n\n\n\nMittwoch\, 15.04.2026   jeweils von 16:30 – 17:30 Uhr\n\n\n\n(geplant sind weitere Termine 1 x im Monat)\n\n\n\n\n\n\n\n\n🎒 Bitte mitbringen: eine Sitzunterlage \n\n\n\n❤️ Auf Spendenbasis … der Erlös geht an das Herzensprojekt NALA Naturschule. \n\n\n\nAnmelden: 07843 84476 oder heike.gutenkunst@gmx.de
URL:https://nala-naturschule.de/veranstaltung/maerchen-und-allerlei-schoene-geschichten-im-kraeutergarten-in-renchen-ulm/
CATEGORIES:Märchen
END:VEVENT
BEGIN:VEVENT
DTSTART;TZID=Europe/Berlin:20260307T100000
DTEND;TZID=Europe/Berlin:20260307T170000
DTSTAMP:20260421T174823
CREATED:20260113T095440Z
LAST-MODIFIED:20260309T193019Z
UID:3792-1772877600-1772902800@nala-naturschule.de
SUMMARY:Waldtag "Märzensonne"
DESCRIPTION:• Für Kinder von 5 – 12 Jahren \n\n\n\n• Ausgleich: 45 € \n\n\n\n• Je 5 € Rabatt für NALA- und Geschwisterkinder \n\n\n\n\n\n\n\nLiebe Kinder\, \n\n\n\nwie sieht es im Wald nach den langen Wintermonaten aus? Stürme und Regen haben den Wald durchgeschüttelt. Einige Bäume haben ihren Halt verloren und sind umgestürzt. Wie geht es unseren Lieblingsplätzen\, nachdem sie in der Winterstille von Schnee und Eis bedeckt waren?  \n\n\n\nIhr könnt jetzt viel im Wald entdecken und besondere Schätze finden: leere Schneckenhäuser oder Wurzelgeister. Daraus könnt ihr Instrumente\, Puppen oder kleine Kunstwerke herstellen. Natürlich wollen wir wieder viel spielen\, klettern\, am Feuer kochen und Geschichten lauschen. \n\n\n\nWir freuen uns auf den ersten Waldtag mit euch. \n\n\n\nLiebe Grüße \n\n\n\nYvonne\, Katja und das NALA Team \n\n\n\nAnmelden: hallo@nala-naturschule.de \n\n\n\n• Treffpunkt 10 Uhr: Oberkirch Schauenburg Parkplatz Nr. 3 \n\n\n\n• Abholen 17 Uhr: Parkplatz Nr. 1 \n\n\n\n• Bitte mitbringen: Kleines Vesper\, wetterfeste Kleidung\, Schnitzmesser\, Schüssel\, Besteck\, Geschirrtuch\, Sitzunterlage\, Stoffbeutel zum Sammeln von Waldschätzen
URL:https://nala-naturschule.de/veranstaltung/waldtag-maerzensonne-fuer-kinder/
CATEGORIES:Waldtage
END:VEVENT
BEGIN:VEVENT
DTSTART;TZID=Europe/Berlin:20260315T143000
DTEND;TZID=Europe/Berlin:20260315T170000
DTSTAMP:20260421T174823
CREATED:20260113T094932Z
LAST-MODIFIED:20260311T225626Z
UID:3785-1773585000-1773594000@nala-naturschule.de
SUMMARY:NALA Familienausflug
DESCRIPTION:Liebe Familien und NALA Freunde\,  \n\n\n\n\n\n\n\nim Märzenwald singt und klingt es. Die warmen Sonnenstrahlen wecken das neue Leben und auf den Wiesen finden wir schon Wildkräuter. Jetzt ist es Zeit für den ersten NALA Familienausflug und ein Frühlingspicknick im Grünen. \n\n\n\nWir treffen uns am Sonntag\, den 15. März um 14:30 Uhr\, in Lautenbach/Sendelbach\, am Parkplatz beim Teufelsschuppen. Der Weg geht ungefähr eine halbe Stunde über die Wiesen vorbei an der alten Eiche und durch den Wald bis zum Otschenschrofen. Dort wollen wir die Aussicht über das Rheintal genießen\, spielen\, Geschichten lauschen und Naturschätze sammeln. \n\n\n\nAuf dem Rückweg laden wir auf den Wiesen am Otschenfeld zum gemeinsamen Frühlingspicknick ein. Ihr könnt gerne eine Decke und etwas zum Vespern für das Picknick mitbringen. \n\n\n\nFür den Austausch und Fragen zur Entwicklung der NALA Naturschule ist natürlich auch wieder Zeit. \n\n\n\nWir freuen uns auf euch. \n\n\n\nHerzliche GrüßeYvonne und euer NALA Team \n\n\n\n\n\n\n\nℹ️ Infos: \n\n\n\n📆 Wann: Sonntag\, 15. März \n\n\n\n⏰ Uhrzeit: 14:30 Uhr \n\n\n\n📍 Treffpunkt: Parkplatz Teufelsschuppen\, Sendelbachstraße 17 in Lautenbach (→ klick für den Google-Link) \n\n\n\n🎒 Mitbringen: Picknick und Decke \n\n\n\nTeilnahme kostenlos \n\n\n\nOhne Anmeldung
URL:https://nala-naturschule.de/veranstaltung/nala-familienausflug-2/
CATEGORIES:Familienausflüge
END:VEVENT
BEGIN:VEVENT
DTSTART;TZID=Europe/Berlin:20260331T000000
DTEND;TZID=Europe/Berlin:20260401T235959
DTSTAMP:20260421T174823
CREATED:20260307T085550Z
LAST-MODIFIED:20260322T205836Z
UID:3948-1774915200-1775087999@nala-naturschule.de
SUMMARY:NALA Schnitzen mit Nick
DESCRIPTION:• Jeweils von 10 bis 14 Uhr \n\n\n\n• Für Kinder von 5 – 12 Jahren \n\n\n\n• Ausgleich: 50 € \n\n\n\n• Je 5 € Rabatt für NALA- und Geschwisterkinder \n\n\n\n\n\n\n\nRitzen\, Schnitzen\, auf der Wurzel sitzen …  \n\n\n\nLiebe Kinder\, \n\n\n\npackt eure Schnitzmesser ein und kommt mit auf eine spannende Entdeckungsreise in den Wald!Gemeinsam mit Nick erkunden wir die Natur und finden heraus\, welche Wesen\, Figuren und Tiere im Waldholz verborgen schlummern. Auch aus anderen Naturschätzen können wir wunderbare Kunstwerke für das Osterfest kreieren. Natürlich werden wir auch viel spielen\, klettern und schönen Geschichten lauschen. \n\n\n\nHerzliche Grüße \n\n\n\nNick\, Heike\, Annika und das NALA Team \n\n\n\nAnmelden: hallo@nala-naturschule.de  \n\n\n\n• Treffpunkt: Kaierspielplatz Ulm \n\n\n\nBitte mitbringen: \n\n\n\n• Schnitzmesser & ggf. Schnitzschutzhandschuh \n\n\n\n• Sitzunterlage & Stoffbeutel zum Sammeln \n\n\n\n• Vesper & Trinken
URL:https://nala-naturschule.de/veranstaltung/nala-schnitzen-mit-nick/
CATEGORIES:Naturtage
END:VEVENT
END:VCALENDAR