BEGIN:VCALENDAR
VERSION:2.0
PRODID:-//NALA Naturschule - ECPv6.15.20//NONSGML v1.0//EN
CALSCALE:GREGORIAN
METHOD:PUBLISH
X-ORIGINAL-URL:https://nala-naturschule.de
X-WR-CALDESC:Veranstaltungen für NALA Naturschule
REFRESH-INTERVAL;VALUE=DURATION:PT1H
X-Robots-Tag:noindex
X-PUBLISHED-TTL:PT1H
BEGIN:VTIMEZONE
TZID:Europe/Berlin
BEGIN:DAYLIGHT
TZOFFSETFROM:+0100
TZOFFSETTO:+0200
TZNAME:CEST
DTSTART:20250330T010000
END:DAYLIGHT
BEGIN:STANDARD
TZOFFSETFROM:+0200
TZOFFSETTO:+0100
TZNAME:CET
DTSTART:20251026T010000
END:STANDARD
BEGIN:DAYLIGHT
TZOFFSETFROM:+0100
TZOFFSETTO:+0200
TZNAME:CEST
DTSTART:20260329T010000
END:DAYLIGHT
BEGIN:STANDARD
TZOFFSETFROM:+0200
TZOFFSETTO:+0100
TZNAME:CET
DTSTART:20261025T010000
END:STANDARD
BEGIN:DAYLIGHT
TZOFFSETFROM:+0100
TZOFFSETTO:+0200
TZNAME:CEST
DTSTART:20270328T010000
END:DAYLIGHT
BEGIN:STANDARD
TZOFFSETFROM:+0200
TZOFFSETTO:+0100
TZNAME:CET
DTSTART:20271031T010000
END:STANDARD
END:VTIMEZONE
BEGIN:VEVENT
DTSTART;TZID=Europe/Berlin:20260425T140000
DTEND;TZID=Europe/Berlin:20260425T163000
DTSTAMP:20260421T161401
CREATED:20260113T095922Z
LAST-MODIFIED:20260413T231835Z
UID:3796-1777125600-1777134600@nala-naturschule.de
SUMMARY:NALA Workshop im Pfarrmättle-Kräutergarten in Ulm
DESCRIPTION:Zauberkräfte aus dem Kräutergarten  – ein Zauberkräuter-Workshop  \n\n\n\n• Für Kinder von 5 – 10 Jahren \n\n\n\n• Ausgleich: 25 € \n\n\n\n\n\n\n\nFrühlingszauber mit Fee-Kamilla & Zaubertroll Thymio \n\n\n\nLiebe Kinder\, \n\n\n\nmöchtet ihr mit uns einen grünen\, kraftvollen Frühlings-Zaubertrank brauen? 🌱✨ \n\n\n\nIm Ulmer Pfarrmättle wachsen ganz besondere\, magische Pflanzen\, die uns dabei helfen. \n\n\n\nGemeinsam sammeln wir sie\, rühren vorsichtig im Zauberkessel und lassen den Frühling erwachen! \n\n\n\nWir freuen uns schon sehr auf euch. \n\n\n\nEure Fee Kamilla 🧚‍♀️ und euer Zaubertroll Thymio 💫 \n\n\n\nAnmelden: hallo@nala-naturschule.de
URL:https://nala-naturschule.de/veranstaltung/nala-workshop-im-pfarrmaettle-kraeutergarten-in-ulm/
CATEGORIES:Workshops
END:VEVENT
END:VCALENDAR