BEGIN:VCALENDAR
VERSION:2.0
PRODID:-//NALA Naturschule - ECPv6.15.20//NONSGML v1.0//EN
CALSCALE:GREGORIAN
METHOD:PUBLISH
X-WR-CALNAME:NALA Naturschule
X-ORIGINAL-URL:https://nala-naturschule.de
X-WR-CALDESC:Veranstaltungen für NALA Naturschule
REFRESH-INTERVAL;VALUE=DURATION:PT1H
X-Robots-Tag:noindex
X-PUBLISHED-TTL:PT1H
BEGIN:VTIMEZONE
TZID:Europe/Berlin
BEGIN:DAYLIGHT
TZOFFSETFROM:+0100
TZOFFSETTO:+0200
TZNAME:CEST
DTSTART:20240331T010000
END:DAYLIGHT
BEGIN:STANDARD
TZOFFSETFROM:+0200
TZOFFSETTO:+0100
TZNAME:CET
DTSTART:20241027T010000
END:STANDARD
BEGIN:DAYLIGHT
TZOFFSETFROM:+0100
TZOFFSETTO:+0200
TZNAME:CEST
DTSTART:20250330T010000
END:DAYLIGHT
BEGIN:STANDARD
TZOFFSETFROM:+0200
TZOFFSETTO:+0100
TZNAME:CET
DTSTART:20251026T010000
END:STANDARD
BEGIN:DAYLIGHT
TZOFFSETFROM:+0100
TZOFFSETTO:+0200
TZNAME:CEST
DTSTART:20260329T010000
END:DAYLIGHT
BEGIN:STANDARD
TZOFFSETFROM:+0200
TZOFFSETTO:+0100
TZNAME:CET
DTSTART:20261025T010000
END:STANDARD
END:VTIMEZONE
BEGIN:VEVENT
DTSTART;TZID=Europe/Berlin:20250518T143000
DTEND;TZID=Europe/Berlin:20250518T173000
DTSTAMP:20260421T212044
CREATED:20250225T202150Z
LAST-MODIFIED:20251119T141952Z
UID:3225-1747578600-1747589400@nala-naturschule.de
SUMMARY:Familienausflug
DESCRIPTION:Liebe Familien & NALA-Freunde\, \n\n\n\nviele farbige\, süße und würzige Blüten wachsen jetzt auf allen Wiesen und im Wald. Bei unserem nächsten Familienausflug am 18. Mai stellen wir daraus leckere\, bunte Blütenlimonade her. \n\n\n\nAuf einem kleinen Rundweg „Münsterblick – St. Wendel“ könnt ihr sicher Holunder\, Labkraut und Gundermannblüten finden und für die Limonade sammeln. Bringt bitte Picknick und kleine Fläschchen für die Limonade mit\, am besten mit breitem Hals und mit Wasser gefüllt. \n\n\n\nUnter den Schwarznussbäumen an der Münsterblickhütte gibt es ein gemeinsames Picknick\, die Blüten-Limonade\, Geschichten\, Spiele und Zeit zum Austausch über aktuelle Themen der NALA Naturschule. \n\n\n\nTreffpunkt: Parkplatz Münsterblick bei Nußbach (→ klick für den Google-Link)\, ohne Anmeldung
URL:https://nala-naturschule.de/veranstaltung/familienausflug-2/
CATEGORIES:Familienausflüge
END:VEVENT
END:VCALENDAR