BEGIN:VCALENDAR
VERSION:2.0
PRODID:-//NALA Naturschule - ECPv6.15.20//NONSGML v1.0//EN
CALSCALE:GREGORIAN
METHOD:PUBLISH
X-WR-CALNAME:NALA Naturschule
X-ORIGINAL-URL:https://nala-naturschule.de
X-WR-CALDESC:Veranstaltungen für NALA Naturschule
REFRESH-INTERVAL;VALUE=DURATION:PT1H
X-Robots-Tag:noindex
X-PUBLISHED-TTL:PT1H
BEGIN:VTIMEZONE
TZID:Europe/Berlin
BEGIN:DAYLIGHT
TZOFFSETFROM:+0100
TZOFFSETTO:+0200
TZNAME:CEST
DTSTART:20240331T010000
END:DAYLIGHT
BEGIN:STANDARD
TZOFFSETFROM:+0200
TZOFFSETTO:+0100
TZNAME:CET
DTSTART:20241027T010000
END:STANDARD
BEGIN:DAYLIGHT
TZOFFSETFROM:+0100
TZOFFSETTO:+0200
TZNAME:CEST
DTSTART:20250330T010000
END:DAYLIGHT
BEGIN:STANDARD
TZOFFSETFROM:+0200
TZOFFSETTO:+0100
TZNAME:CET
DTSTART:20251026T010000
END:STANDARD
BEGIN:DAYLIGHT
TZOFFSETFROM:+0100
TZOFFSETTO:+0200
TZNAME:CEST
DTSTART:20260329T010000
END:DAYLIGHT
BEGIN:STANDARD
TZOFFSETFROM:+0200
TZOFFSETTO:+0100
TZNAME:CET
DTSTART:20261025T010000
END:STANDARD
END:VTIMEZONE
BEGIN:VEVENT
DTSTART;TZID=Europe/Berlin:20251122T100000
DTEND;TZID=Europe/Berlin:20251122T170000
DTSTAMP:20260421T195116
CREATED:20250922T204257Z
LAST-MODIFIED:20260309T192647Z
UID:3470-1763805600-1763830800@nala-naturschule.de
SUMMARY:NALA Waldtag "Herbstgold" im November
DESCRIPTION:Birke\, Tanne\, Moos und Stein – es ist so schön\, im Wald zu sein… \n\n\n\n\n\n\n\nLiebe Kinder\, \n\n\n\nder Herbst breitet seinen goldenen Herbstlaubteppich auf dem Waldboden aus. \n\n\n\nEs ist still geworden im Wald. Die Tage werden kürzer und die meisten Tiere haben schon einen Winterplatz gefunden. Überall haben sie Spuren und Zeichen hinterlassen. \n\n\n\nHabt ihr Lust\, den Herbstwald rund um die Schauenburg zu entdecken? \n\n\n\nWir wollen auch wieder auf den Adlerfelsen klettern\, an der Quelle Wasser trinken und dann im Waldgarten am Feuer sitzen\, schnitzen\, den Geschichten lauschen und Stockbrot backen. \n\n\n\nIhr könnt ein Lichterglas mit Rinde\, Nüssen und anderen schönen Dingen\, die ihr in der Natur findet\, schmücken. \n\n\n\nLiebe Grüße  \n\n\n\nYvonne \n\n\n\n\n\n\n\nℹ️ Infos: \n\n\n\n📍 Treffpunkt: Oberkirch/Burgstr.\, Parkplatz 3\, 10 Uhr\, Abholen: Oberkirch/Burgstr.\, Parkplatz 1\, 17 Uhr \n\n\n\n🎒 Mitbringen: kleines Vesper\, Sitzunterlage\, wetterfeste Kleidung\, Schnitzmesser \n\n\n\nFür Kinder von 5-11 Jahren \n\n\n\nAusgleich: 45 Euro (je 5 Euro Rabatt für NALA- und Geschwisterkinder) \n\n\n\n✉️ Anmeldung gerne per Mail an: hallo@nala-naturschule.de
URL:https://nala-naturschule.de/veranstaltung/nala-waldtag-im-november-2/
CATEGORIES:Waldtage
END:VEVENT
END:VCALENDAR