BEGIN:VCALENDAR
VERSION:2.0
PRODID:-//NALA Naturschule - ECPv6.15.20//NONSGML v1.0//EN
CALSCALE:GREGORIAN
METHOD:PUBLISH
X-WR-CALNAME:NALA Naturschule
X-ORIGINAL-URL:https://nala-naturschule.de
X-WR-CALDESC:Veranstaltungen für NALA Naturschule
REFRESH-INTERVAL;VALUE=DURATION:PT1H
X-Robots-Tag:noindex
X-PUBLISHED-TTL:PT1H
BEGIN:VTIMEZONE
TZID:Europe/Berlin
BEGIN:DAYLIGHT
TZOFFSETFROM:+0100
TZOFFSETTO:+0200
TZNAME:CEST
DTSTART:20250330T010000
END:DAYLIGHT
BEGIN:STANDARD
TZOFFSETFROM:+0200
TZOFFSETTO:+0100
TZNAME:CET
DTSTART:20251026T010000
END:STANDARD
BEGIN:DAYLIGHT
TZOFFSETFROM:+0100
TZOFFSETTO:+0200
TZNAME:CEST
DTSTART:20260329T010000
END:DAYLIGHT
BEGIN:STANDARD
TZOFFSETFROM:+0200
TZOFFSETTO:+0100
TZNAME:CET
DTSTART:20261025T010000
END:STANDARD
BEGIN:DAYLIGHT
TZOFFSETFROM:+0100
TZOFFSETTO:+0200
TZNAME:CEST
DTSTART:20270328T010000
END:DAYLIGHT
BEGIN:STANDARD
TZOFFSETFROM:+0200
TZOFFSETTO:+0100
TZNAME:CET
DTSTART:20271031T010000
END:STANDARD
END:VTIMEZONE
BEGIN:VEVENT
DTSTART;TZID=Europe/Berlin:20260730T100000
DTEND;TZID=Europe/Berlin:20260731T170000
DTSTAMP:20260420T053509
CREATED:20260204T005618Z
LAST-MODIFIED:20260225T212938Z
UID:3846-1785405600-1785517200@nala-naturschule.de
SUMMARY:Sommerabenteuer über Nacht
DESCRIPTION:• Für Kinder ab 6 Jahren \n\n\n\n• Ausgleich: 90 € (inkl. Essen und Material) plus 20 € Übernachtung \n\n\n\n• Je 5 € Rabatt für NALA- und Geschwisterkinder \n\n\n\n\n\n\n\nZwei Ferientage mit NALA und Übernachten in der Natur… Details folgen.  \n\n\n\nInteresse? Einfach E-Mail schreiben an hallo@nala-naturschule.de
URL:https://nala-naturschule.de/veranstaltung/sommerabenteuer-ueber-nacht/
CATEGORIES:Naturtage
END:VEVENT
END:VCALENDAR